BEGIN:VCALENDAR
VERSION:2.0
PRODID:-//ChamberMaster//Event Calendar 2.0//EN
METHOD:PUBLISH
X-PUBLISHED-TTL:P3D
REFRESH-INTERVAL:P3D
CALSCALE:GREGORIAN
BEGIN:VEVENT
DTSTART:20220210T160000Z
DTEND:20220210T170000Z
X-MICROSOFT-CDO-ALLDAYEVENT:FALSE
SUMMARY:Spero Health Ribbon cutting
DESCRIPTION:Join us as we welcome\n\nSpero Health Inc.\n\nto their new Lancaster location with a ribbon cutting.
X-ALT-DESC;FMTTYPE=text/html:<br />\n<span style="font-size:22px\;"><span style="color:#000000\;">Join us as we welcome<br />\nSpero Health Inc.<br />\nto their new Lancaster location with a ribbon cutting.&nbsp\;</span></span><br />\n<br />\n&nbsp\;
LOCATION:
UID:e.3121.754
SEQUENCE:3
DTSTAMP:20260419T222011Z
URL:https://business.lancoc.org/events/details/spero-health-ribbon-cutting-754
END:VEVENT

END:VCALENDAR
