BEGIN:VCALENDAR
VERSION:2.0
PRODID:-//ChamberMaster//Event Calendar 2.0//EN
METHOD:PUBLISH
X-PUBLISHED-TTL:P3D
REFRESH-INTERVAL:P3D
CALSCALE:GREGORIAN
BEGIN:VEVENT
DTSTART:20200413T170000Z
DTEND:20200413T180000Z
X-MICROSOFT-CDO-ALLDAYEVENT:FALSE
SUMMARY:Small Business University Webinar: CashFlow is King\, Strategies to Plan\, Manage\, and Control Your Cash
DESCRIPTION:WEBINAR: CashFlow is King - Strategies to Plan\, Manage\, and Control Your Cash\n \n\nIn times of uncertainty knowing your cash flow can mean the difference between the success or failure of your business. \n\nJoin us for this time-critical webinar to learn how to plan\, manage\, and control your cash flow. \n\n \n\nIn one hour you will learn...\n\n \n\n\n	\n	The difference between your cash flow and your profit and loss statements... and why both are vital to the success of your business\n	\n	\n	How to create a simple cash flow statement to manage your cash flow right away\n	\n	\n	How to predict your cash flow so you can make proactive decisions for your business\n	\n	Key strategies to quickly boost your cash flow - even in times of crisis\n\n\nBONUS:  \n\nIf you are unable to attend the webinar but would like to schedule a complimentary coaching session with a Certified Business Coach\, please click HERE. \n\n\n\nAbout your presenter:\n\n\n	\n		\n			Heather Yakes is an internationally recognized business coach ranking in the Top 10 in the U.S. & Top 25 worldwide an employee engagement expert\, one of only 10 Adding Zeros Licensed Facilitators worldwide\, and the owner of an award-winning ActionCOACH Business Coaching firm in Central Ohio. Heather has led multibillion-dollar companies in strategy\, growth\, sales\, marketing\, operations\, and team building\, and she now specializes in working with business owners\, executives\, and their teams to achieve record-high performance and profits. Her clients experience an average of 50% growth in revenue and 135% growth in profits year over year.
X-ALT-DESC;FMTTYPE=text/html:<div><br />\n<span style="font-family:arial\;"><span style="font-size:18px\;"><span style="color:#000000\;"><span style="font-style: normal\; font-variant-ligatures: normal\; font-variant-caps: normal\; font-weight: 700\; letter-spacing: normal\; text-align: center\; text-indent: 0px\; text-transform: none\; white-space: pre-wrap\; word-spacing: 0px\; -webkit-text-stroke-width: 0px\; background-color: rgb(255\, 255\, 255)\; text-decoration-style: initial\; text-decoration-color: initial\; display: inline !important\; float: none\;">WEBINAR:</span></span><span style="color: rgb(41\, 75\, 147)\; font-style: normal\; font-variant-ligatures: normal\; font-variant-caps: normal\; font-weight: 700\; letter-spacing: normal\; text-align: center\; text-indent: 0px\; text-transform: none\; white-space: pre-wrap\; word-spacing: 0px\; -webkit-text-stroke-width: 0px\; background-color: rgb(255\, 255\, 255)\; text-decoration-style: initial\; text-decoration-color: initial\; display: inline !important\; float: none\;"> CashFlow is </span><span style="color:#FF0000\;"><span style="font-style: normal\; font-variant-ligatures: normal\; font-variant-caps: normal\; font-weight: 700\; letter-spacing: normal\; text-align: center\; text-indent: 0px\; text-transform: none\; white-space: pre-wrap\; word-spacing: 0px\; -webkit-text-stroke-width: 0px\; background-color: rgb(255\, 255\, 255)\; text-decoration-style: initial\; text-decoration-color: initial\; display: inline !important\; float: none\;">King</span></span><span style="color: rgb(41\, 75\, 147)\; font-style: normal\; font-variant-ligatures: normal\; font-variant-caps: normal\; font-weight: 700\; letter-spacing: normal\; text-align: center\; text-indent: 0px\; text-transform: none\; white-space: pre-wrap\; word-spacing: 0px\; -webkit-text-stroke-width: 0px\; background-color: rgb(255\, 255\, 255)\; text-decoration-style: initial\; text-decoration-color: initial\; display: inline !important\; float: none\;"> - <span style="font-size:16px\;">Strategies to </span></span><span style="color:#FF0000\;"><span style="font-style: normal\; font-variant-ligatures: normal\; font-variant-caps: normal\; font-weight: 700\; letter-spacing: normal\; text-align: center\; text-indent: 0px\; text-transform: none\; white-space: pre-wrap\; word-spacing: 0px\; -webkit-text-stroke-width: 0px\; background-color: rgb(255\, 255\, 255)\; text-decoration-style: initial\; text-decoration-color: initial\; display: inline !important\; float: none\;"><span style="font-size:16px\;">Plan</span></span></span><span style="color: rgb(41\, 75\, 147)\; font-style: normal\; font-variant-ligatures: normal\; font-variant-caps: normal\; font-weight: 700\; letter-spacing: normal\; text-align: center\; text-indent: 0px\; text-transform: none\; white-space: pre-wrap\; word-spacing: 0px\; -webkit-text-stroke-width: 0px\; background-color: rgb(255\, 255\, 255)\; text-decoration-style: initial\; text-decoration-color: initial\; display: inline !important\; float: none\;"><span style="font-size:16px\;">\, </span></span><span style="color:#FF0000\;"><span style="font-style: normal\; font-variant-ligatures: normal\; font-variant-caps: normal\; font-weight: 700\; letter-spacing: normal\; text-align: center\; text-indent: 0px\; text-transform: none\; white-space: pre-wrap\; word-spacing: 0px\; -webkit-text-stroke-width: 0px\; background-color: rgb(255\, 255\, 255)\; text-decoration-style: initial\; text-decoration-color: initial\; display: inline !important\; float: none\;"><span style="font-size:16px\;">Manage</span></span></span><span style="color: rgb(41\, 75\, 147)\; font-style: normal\; font-variant-ligatures: normal\; font-variant-caps: normal\; font-weight: 700\; letter-spacing: normal\; text-align: center\; text-indent: 0px\; text-transform: none\; white-space: pre-wrap\; word-spacing: 0px\; -webkit-text-stroke-width: 0px\; background-color: rgb(255\, 255\, 255)\; text-decoration-style: initial\; text-decoration-color: initial\; display: inline !important\; float: none\;"><span style="font-size:16px\;">\, and </span></span><span style="color:#FF0000\;"><span style="font-style: normal\; font-variant-ligatures: normal\; font-variant-caps: normal\; font-weight: 700\; letter-spacing: normal\; text-align: center\; text-indent: 0px\; text-transform: none\; white-space: pre-wrap\; word-spacing: 0px\; -webkit-text-stroke-width: 0px\; background-color: rgb(255\, 255\, 255)\; text-decoration-style: initial\; text-decoration-color: initial\; display: inline !important\; float: none\;"><span style="font-size:16px\;">Control</span></span></span><span style="color: rgb(41\, 75\, 147)\; font-style: normal\; font-variant-ligatures: normal\; font-variant-caps: normal\; font-weight: 700\; letter-spacing: normal\; text-align: center\; text-indent: 0px\; text-transform: none\; white-space: pre-wrap\; word-spacing: 0px\; -webkit-text-stroke-width: 0px\; background-color: rgb(255\, 255\, 255)\; text-decoration-style: initial\; text-decoration-color: initial\; display: inline !important\; float: none\;"><span style="font-size:16px\;"> Your </span></span><span style="color:#FF0000\;"><span style="font-style: normal\; font-variant-ligatures: normal\; font-variant-caps: normal\; font-weight: 700\; letter-spacing: normal\; text-align: center\; text-indent: 0px\; text-transform: none\; white-space: pre-wrap\; word-spacing: 0px\; -webkit-text-stroke-width: 0px\; background-color: rgb(255\, 255\, 255)\; text-decoration-style: initial\; text-decoration-color: initial\; display: inline !important\; float: none\;"><span style="font-size:16px\;">Cash</span></span></span></span></span></div>\n&nbsp\;\n\n<p style="margin: 0in 0in 11.25pt\;"><strong><span style="font-size:14px\;"><em><span style="color:#00548F\;"><span style="font-family:helvetica\,sans-serif\;">In times of uncertainty knowing your cash flow can mean the difference between the success or failure of your business. </span></span></em></span></strong></p>\n\n<p style="margin: 11.25pt 0in\;"><strong><span style="font-size:14px\;"><span style="color:#CF3025\;"><span style="font-family:helvetica\,sans-serif\;">Join us for this time-critical webinar to learn how to plan\, manage\, and control your cash flow. </span></span></span></strong><br />\n&nbsp\;</p>\n\n<p style="margin: 11.25pt 0in\;"><span style="font-size:14px\;"><span style="color:#00548F\;"><span style="font-family:helvetica\,sans-serif\;"><strong>In one hour you will learn...</strong></span></span></span><br />\n&nbsp\;</p>\n\n<ul>\n	<li style="color:#00548F\;margin-top:0in\;margin-bottom:0in\;margin-bottom:.0001pt\;">\n	<p><strong><span style="font-size:14px\;"><span style="font-family:arial\;">The difference between your <span style="color:#CF3025\;">cash flow</span> and your <span style="color:#CF3025\;">profit and loss</span> statements... and why both are vital to the success of your business</span></span></strong></p>\n	</li>\n	<li style="color:#00548F\;margin-top:0in\;margin-bottom:0in\;margin-bottom:.0001pt\;">\n	<p><strong><span style="font-size:14px\;"><span style="font-family:arial\;">How to create a <span style="color:#CF3025\;">simple</span> cash flow<span style="color:#CF3025\;"> statement</span> to manage your cash flow right away</span></span></strong></p>\n	</li>\n	<li style="color:#00548F\;">\n	<p><strong><span style="font-size:14px\;"><span style="font-family:arial\;">How to <span style="color:#CF3025\;">predict</span> your cash flow so you can make <span style="color:#CF3025\;">proactive decisions</span> for your business</span></span></strong></p>\n	</li>\n	<li style="color: rgb(0\, 84\, 143)\;"><strong><span style="font-size:14px\;"><span style="font-family:arial\;"><span style="color:#00548F\;">Key </span><span style="color:#CF3025\;">strategies</span><span style="color:#00548F\;"> to quickly </span><span style="color:#CF3025\;">boost</span><span style="color:#00548F\;"> your cash flow - even in times of crisis</span></span></span></strong></li>\n</ul>\n\n<p style="color:#00548F\;"><strong><span style="font-size:16px\;">BONUS:&nbsp\; </span></strong><br />\nIf you are unable to attend the webinar but would like to schedule a complimentary coaching session with a Certified Business Coach\, please click <a href="https://heatheryakes.actioncoach.com/engage/?inf_contact_key=727b6f3cd01479f2725dc94f0b87d398680f8914173f9191b1c0223e68310bb1"><span style="color:#FF0000\;"><span style="font-size:16px\;"><strong>HERE</strong></span></span></a><span style="color:#FF0000\;">.</span>&nbsp\;<br />\n<br />\n<span style="color:#000000\;"><strong><span style="font-size:14px\;"><span style="font-family:helvetica\,sans-serif\;">About your presenter:</span></span></strong></span></p>\n\n<table border="0" cellpadding="0" cellspacing="0" style="width:100.0%\;border-collapse:collapse\;" width="100%">\n	<tbody>\n		<tr>\n			<td style="padding:11.25pt 11.25pt 11.25pt 11.25pt\;"><span style="font-size:14px\;"><span style="font-family:arial\;"><span style="color:#343434\;">Heather Yakes is an internationally recognized business coach&mdash\;ranking in the Top 10 in the U.S. &amp\; Top 25 worldwide&mdash\;an employee engagement expert\, one of only 10 Adding Zeros Licensed Facilitators worldwide\, and the owner of an award-winning </span><strong><span style="color:#BA0C2F\;">Action</span></strong><strong><span style="color:#00548F\;">COACH</span></strong><span style="color:#343434\;"> Business Coaching firm in Central Ohio. Heather has led multibillion-dollar companies in strategy\, growth\, sales\, marketing\, operations\, and team building\, and she now specializes in working with business owners\, executives\, and their teams to achieve record-high performance and profits. Her clients experience an average of 50% growth in revenue and 135% growth in profits year over year.</span></span></span></td>\n		</tr>\n	</tbody>\n</table>\n
LOCATION:LIVE ZOOM WEBINAR
UID:e.3121.450
SEQUENCE:3
DTSTAMP:20260423T141137Z
URL:https://business.lancoc.org/events/details/small-business-university-webinar-cashflow-is-king-strategies-to-plan-manage-and-control-your-cash-450
END:VEVENT

END:VCALENDAR
