BEGIN:VCALENDAR
VERSION:2.0
PRODID:-//ChamberMaster//Event Calendar 2.0//EN
METHOD:PUBLISH
X-PUBLISHED-TTL:P3D
REFRESH-INTERVAL:P3D
CALSCALE:GREGORIAN
BEGIN:VEVENT
DTSTART:20191205T163000Z
DTEND:20191205T180000Z
X-MICROSOFT-CDO-ALLDAYEVENT:FALSE
SUMMARY:Small Business University Seminar: Top 5 Things You Need to Know For Year-End Tax Planning
DESCRIPTION:Top 5 Things Business Owners Need to Know When Doing Year-End Tax Planning.\n\n	Have you heard about the newly appointed IRS commissioner's compliance plan?\n	Is your mile logbook IRS exam-proof?\n	What business expenses should you accelerate before year-end?\n	What tax incentives are provided with employer benefits?\n	Are you invested in crypto currency?
X-ALT-DESC;FMTTYPE=text/html:<strong><span style="font-size:18px\;">Top 5 Things Business Owners Need to Know When Doing Year-End Tax Planning.</span></strong>\n<ol>\n	<li style="margin-left:0in\;"><span style="font-size:14px\;">Have you heard about the newly appointed IRS commissioner&rsquo\;s compliance plan?</span></li>\n	<li style="margin-left:0in\;"><span style="font-size:14px\;">Is your mile logbook IRS exam-proof?</span></li>\n	<li style="margin-left:0in\;"><span style="font-size:14px\;">What business expenses should you accelerate before year-end?</span></li>\n	<li style="margin-left:0in\;"><span style="font-size:14px\;">What tax incentives are provided with employer benefits?</span></li>\n	<li style="margin-left:0in\;"><span style="font-size:14px\;">Are you invested in crypto currency?</span></li>\n</ol>\n
LOCATION:Lancaster/Fairfield County Chamber of Commerce Conference Room 109 N. Broad Street\, Suite 100 Lancaster\, Ohio
UID:e.3121.388
SEQUENCE:3
DTSTAMP:20260423T230411Z
URL:https://business.lancoc.org/events/details/small-business-university-seminar-top-5-things-you-need-to-know-for-year-end-tax-planning-388
END:VEVENT

END:VCALENDAR
