BEGIN:VCALENDAR
VERSION:2.0
PRODID:-//ChamberMaster//Event Calendar 2.0//EN
METHOD:PUBLISH
X-PUBLISHED-TTL:P3D
REFRESH-INTERVAL:P3D
CALSCALE:GREGORIAN
BEGIN:VEVENT
DTSTART:20191024T153000Z
DTEND:20191024T170000Z
X-MICROSOFT-CDO-ALLDAYEVENT:FALSE
SUMMARY:Small Business University Seminar: Increase the Value of Your Business from 1-2x to 6-7x!
DESCRIPTION:Small Business University Seminar - Increase the value of your business from 1-2x to 6-7x!\n\n\n\nWhether you plan to exit your business now or in 20 years\, the valuation of the business is based on what you do NOW! Increase the value of your business with these 6 Essential Steps that provide the highest potential valuation of your business.\n\n \n\nAbout your speaker:  Brittany Douglass is a Certified Business Coach with ActionCOACH Business Coaching. Brittany specializes in helping business owners grow their businesses and achieve the next level of success. She has led both large\, corporate-structured businesses and small\, independent organizations in team building\, business development\, and customer experience. Her clients experience double and triple-digit growth in profitability by focusing on strategic planning\, systems development\, sales\, marketing\, and team engagement.
X-ALT-DESC;FMTTYPE=text/html:<span style="font-family: sans-serif\, Arial\, Verdana\, &quot\;Trebuchet MS&quot\;\; font-size: 13px\; color: rgb(0\, 51\, 153)\;"><span style="font-size: 16px\; font-family: Calibri\, Helvetica\, Arial\, sans-serif\; font-weight: bold\; font-style: italic\;">Small Business University Seminar -</span><span style="font-size: 14px\; font-family: Calibri\, Helvetica\, Arial\, sans-serif\; font-weight: bold\; font-style: italic\;"> Increase the value of your business from 1-2x to 6-7x!</span></span><br style="color: rgb(51\, 51\, 51)\; font-family: sans-serif\, Arial\, Verdana\, &quot\;Trebuchet MS&quot\;\; font-size: 13px\;" />\n<br style="color: rgb(51\, 51\, 51)\; font-family: sans-serif\, Arial\, Verdana\, &quot\;Trebuchet MS&quot\;\; font-size: 13px\;" />\nWhether you plan to exit your business now or in 20 years\, the valuation of the business is based on what you do NOW! Increase the value of your business with these 6 Essential Steps that provide the highest potential valuation of your business.<br />\n&nbsp\;<br />\nAbout your speaker:&nbsp\; <span style="border:none windowtext 1.0pt\;padding:0in\;background:white\;"><span style="color:#403F42\;">Brittany Douglass is a Certified Business Coach with&nbsp\;</span></span><strong><span style="border:none windowtext 1.0pt\;padding:0in\;background:white\;"><span style="color:#CF3025\;"><span style="font-family:calibri\,sans-serif\;"><a href="mailto:https://heatheryakes.actioncoach.com/"><span style="font-weight:normal\;">ActionCOACH Business Coaching</span></a></span></span></span></strong><span style="border:none windowtext 1.0pt\;padding:0in\;background:white\;"><span style="color:#403F42\;">. Brittany specializes in helping business owners grow their businesses and achieve the next level of success. She has led both large\, corporate-structured businesses and small\, independent organizations in team building\, business development\, and customer experience. Her clients experience double and triple-digit growth in profitability by focusing on strategic planning\, systems development\, sales\, marketing\, and team engagement.</span></span><br />\n&nbsp\;
LOCATION:Lancaster/Fairfield County Chamber of Commerce Conference Room 109 N. Broad Street\, Suite 100 Lancaster\, Ohio
UID:e.3121.345
SEQUENCE:3
DTSTAMP:20260424T010245Z
URL:https://business.lancoc.org/events/details/small-business-university-seminar-increase-the-value-of-your-business-from-1-2x-to-6-7x-345
END:VEVENT

END:VCALENDAR
