BEGIN:VCALENDAR
VERSION:2.0
PRODID:-//ChamberMaster//Event Calendar 2.0//EN
METHOD:PUBLISH
X-PUBLISHED-TTL:P3D
REFRESH-INTERVAL:P3D
CALSCALE:GREGORIAN
BEGIN:VEVENT
DTSTART:20190905T153000Z
DTEND:20190905T170000Z
X-MICROSOFT-CDO-ALLDAYEVENT:FALSE
SUMMARY:Small Business University Seminar: Cyber Crime-Why are small businesses so attractive to hackers?
DESCRIPTION:Small Business University Seminar - Cyber Crime-Why are small businesses so attractive to hackers? \n\n\n\nBig or small cyber security affects us all. Did you know that cyber criminals actually utilize small businesses unprotected information to get access to larger companies? We think we're too small for them to go after us\, but we can be the target! Learn the basic tools and procedures you need to have in place to protect yourself!\n\n\n\nTrainer: Diana Spurgus\, CEO\, Business Systems Solutions\, Inc.\nDiana has accrued more than 35 years of experience in the IT industry\, and holds two associate degrees in accounting and computer science\, a bachelor's degree in information technology and a master's degree in business administration. Read more here
X-ALT-DESC;FMTTYPE=text/html:<span style="font-family: sans-serif\, Arial\, Verdana\, &quot\;Trebuchet MS&quot\;\; font-size: 13px\; color: rgb(0\, 51\, 153)\;"><span style="font-size: 16px\; font-family: Calibri\, Helvetica\, Arial\, sans-serif\; font-weight: bold\; font-style: italic\;">Small Business University Seminar -</span><span style="font-size: 14px\; font-family: Calibri\, Helvetica\, Arial\, sans-serif\; font-weight: bold\; font-style: italic\;">&nbsp\;Cyber Crime-Why are small businesses so attractive to hackers?&nbsp\;</span></span><br style="color: rgb(51\, 51\, 51)\; font-family: sans-serif\, Arial\, Verdana\, &quot\;Trebuchet MS&quot\;\; font-size: 13px\;" />\n<br style="color: rgb(51\, 51\, 51)\; font-family: sans-serif\, Arial\, Verdana\, &quot\;Trebuchet MS&quot\;\; font-size: 13px\;" />\n<span style="color: rgb(51\, 51\, 51)\; font-family: sans-serif\, Arial\, Verdana\, &quot\;Trebuchet MS&quot\;\; font-size: 13px\; background-color: rgb(255\, 255\, 255)\;">Big or small cyber security affects us all. Did you know that cyber criminals actually utilize small businesses unprotected information to get access to larger companies? We think we&rsquo\;re too small for them to go after us\, but we can be the target! Learn the basic tools and procedures you need to have in place to protect yourself!</span><br style="color: rgb(51\, 51\, 51)\; font-family: sans-serif\, Arial\, Verdana\, &quot\;Trebuchet MS&quot\;\; font-size: 13px\;" />\n<br style="color: rgb(51\, 51\, 51)\; font-family: sans-serif\, Arial\, Verdana\, &quot\;Trebuchet MS&quot\;\; font-size: 13px\;" />\n<strong style="color: rgb(51\, 51\, 51)\; font-family: sans-serif\, Arial\, Verdana\, &quot\;Trebuchet MS&quot\;\; font-size: 13px\;">Trainer</strong><span style="color: rgb(51\, 51\, 51)\; font-family: sans-serif\, Arial\, Verdana\, &quot\;Trebuchet MS&quot\;\; font-size: 13px\; background-color: rgb(255\, 255\, 255)\;">: Diana Spurgus\, CEO\,&nbsp\;</span><a href="https://www.bssi.biz/" style="color: rgb(7\, 130\, 193)\; font-family: sans-serif\, Arial\, Verdana\, &quot\;Trebuchet MS&quot\;\; font-size: 13px\;">Business Systems Solutions\, Inc.</a>\n<p style="color: rgb(51\, 51\, 51)\; font-family: sans-serif\, Arial\, Verdana\, &quot\;Trebuchet MS&quot\;\; font-size: 13px\; background: white\; margin: 0in 0in 12pt\;"><span style="color: rgb(42\, 42\, 42)\;">Diana has accrued more than 35 years of experience in the IT industry\, and holds two associate degrees in accounting and computer science\, a bachelor&rsquo\;s degree in information technology and a master&rsquo\;s degree in business administration.<o:p>&nbsp\;<a href="https://chambermaster.blob.core.windows.net/userfiles/UserFiles/chambers/3121/File/Inordertohelpprivatelyheldorganizationsmanagetheircomputers.docx" style="color: rgb(7\, 130\, 193)\;">Read more here</a></o:p></span></p>\n
LOCATION:Lancaster/Fairfield County Chamber of Commerce Conference Room 109 N. Broad Street\, Suite 100 Lancaster\, Ohio
UID:e.3121.328
SEQUENCE:3
DTSTAMP:20260424T064120Z
URL:https://business.lancoc.org/events/details/small-business-university-seminar-cyber-crime-why-are-small-businesses-so-attractive-to-hackers-328
END:VEVENT

END:VCALENDAR
