BEGIN:VCALENDAR
VERSION:2.0
PRODID:-//ChamberMaster//Event Calendar 2.0//EN
METHOD:PUBLISH
X-PUBLISHED-TTL:P3D
REFRESH-INTERVAL:P3D
CALSCALE:GREGORIAN
BEGIN:VEVENT
DTSTART:20191114T163000Z
DTEND:20191114T180000Z
X-MICROSOFT-CDO-ALLDAYEVENT:FALSE
SUMMARY:Small Business University Seminar: Adding Zeros to Your Company Isn't Magic. Learn the 5 Disciplines Top Companies Have in Common.
DESCRIPTION:Adding Zeros to Your Company Isn't Magic. Learn the 5 Disciplines Top Companies Have in Common. \nTo be a great company like Apple\, Southwest Airlines\, and Chick-fil-A (just to name a few)\, we all assume its pure luck or simply magic\, right? In reality\, their sustained success is actually a result of a concentrated focus on 5 Key Disciplines: Strategy\, Business Development\, People\, Execution\, and Mission. During this seminar\, you will learn how to master these 5 Disciplines in your business to achieve the same sustained success as the world's top businesses. \n\n \n\nAre you ready to start adding zeros to your company? Join us for this power hour jam-packed with learnings from the "best of the best" in business and how to apply them to your organization.
X-ALT-DESC;FMTTYPE=text/html:<span style="font-size:18px\;"><span style="color: rgb(41\, 75\, 147)\; font-family: &quot\;Arial Narrow&quot\;\, &quot\;Arial MT Condensed Light&quot\;\, Arial\, sans-serif\; font-style: normal\; font-variant-ligatures: normal\; font-variant-caps: normal\; font-weight: 700\; letter-spacing: normal\; text-align: center\; text-indent: 0px\; text-transform: none\; white-space: pre-wrap\; word-spacing: 0px\; -webkit-text-stroke-width: 0px\; background-color: rgb(255\, 255\, 255)\; text-decoration-style: initial\; text-decoration-color: initial\; display: inline !important\; float: none\;">Adding Zeros to Your Company Isn&#39\;t Magic. Learn the 5 Disciplines Top Companies Have in Common. </span></span>\n<div style="color: rgb(64\, 63\, 66)\; font-family: Arial\, Verdana\, Helvetica\, sans-serif\; font-size: 12px\; font-style: normal\; font-variant-ligatures: normal\; font-variant-caps: normal\; font-weight: 400\; letter-spacing: normal\; orphans: 2\; text-align: left\; text-indent: 0px\; text-transform: none\; white-space: pre-wrap\; widows: 2\; word-spacing: 0px\; -webkit-text-stroke-width: 0px\; background-color: rgb(255\, 255\, 255)\; text-decoration-style: initial\; text-decoration-color: initial\;"><span style="font-size: 18px\; font-family: Calibri\, Helvetica\, Arial\, sans-serif\;">T<span style="font-size:16px\;">o be a great company like Apple\, Southwest Airlines\, and Chick-fil-A (just to name a few)\, we all assume its pure luck or simply magic\, right? In reality\, their sustained success is actually a result of a concentrated focus on 5 Key Disciplines: Strategy\, Business Development\, People\, Execution\, and Mission. During this seminar\, you will learn how to master these 5 Disciplines in your business to achieve the same sustained success as the world&rsquo\;s top businesses.&nbsp\;</span></span></div>\n\n<div style="color: rgb(64\, 63\, 66)\; font-family: Arial\, Verdana\, Helvetica\, sans-serif\; font-size: 12px\; font-style: normal\; font-variant-ligatures: normal\; font-variant-caps: normal\; font-weight: 400\; letter-spacing: normal\; orphans: 2\; text-align: left\; text-indent: 0px\; text-transform: none\; white-space: pre-wrap\; widows: 2\; word-spacing: 0px\; -webkit-text-stroke-width: 0px\; background-color: rgb(255\, 255\, 255)\; text-decoration-style: initial\; text-decoration-color: initial\;">&nbsp\;</div>\n\n<div style="color: rgb(64\, 63\, 66)\; font-family: Arial\, Verdana\, Helvetica\, sans-serif\; font-size: 12px\; font-style: normal\; font-variant-ligatures: normal\; font-variant-caps: normal\; font-weight: 400\; letter-spacing: normal\; orphans: 2\; text-align: left\; text-indent: 0px\; text-transform: none\; white-space: pre-wrap\; widows: 2\; word-spacing: 0px\; -webkit-text-stroke-width: 0px\; background-color: rgb(255\, 255\, 255)\; text-decoration-style: initial\; text-decoration-color: initial\;"><span style="font-size:16px\;"><span style="font-family: Calibri\, Helvetica\, Arial\, sans-serif\;">Are you ready to start adding zeros to your company? Join us for this power hour jam-packed with learnings from the &ldquo\;best of the best&rdquo\; in business and how to apply them to your organization.</span></span></div>\n
LOCATION:Lancaster/Fairfield County Chamber of Commerce Conference Room 109 N. Broad Street\, Suite 100 Lancaster\, Ohio
UID:e.3121.378
SEQUENCE:3
DTSTAMP:20260423T231359Z
URL:https://business.lancoc.org/events/details/small-business-university-seminar-adding-zeros-to-your-company-isn-t-magic-learn-the-5-disciplines-top-companies-have-in-common-378
END:VEVENT

END:VCALENDAR
