BEGIN:VCALENDAR
VERSION:2.0
PRODID:-//ChamberMaster//Event Calendar 2.0//EN
METHOD:PUBLISH
X-PUBLISHED-TTL:P3D
REFRESH-INTERVAL:P3D
CALSCALE:GREGORIAN
BEGIN:VEVENT
DTSTART:20220316T230000Z
DTEND:20220317T010000Z
X-MICROSOFT-CDO-ALLDAYEVENT:FALSE
SUMMARY:Sherman Civil War Roundtable: Lincoln Funeral Train
DESCRIPTION:Train historian Jim Kehn will tell the fascinating story of the train that carried the body of Abraham Lincoln back to Illinois. A good selection of used books about Lincoln will be on sale. Doors open at 6:30. The public is invited to intend.
X-ALT-DESC;FMTTYPE=text/html:Train historian Jim Kehn will tell the fascinating story of the train that carried the body of Abraham Lincoln back to Illinois. A good selection of used books about Lincoln will be on sale. Doors open at 6:30. The public is invited to intend.
LOCATION:Sherman House Museum\, 137 E. Main St.\, Downtown Lancaster\, Ohio
UID:e.3121.769
SEQUENCE:3
DTSTAMP:20260419T222203Z
URL:https://business.lancoc.org/events/details/sherman-civil-war-roundtable-lincoln-funeral-train-769
END:VEVENT

END:VCALENDAR
