BEGIN:VCALENDAR
VERSION:2.0
PRODID:-//ChamberMaster//Event Calendar 2.0//EN
METHOD:PUBLISH
X-PUBLISHED-TTL:P3D
REFRESH-INTERVAL:P3D
CALSCALE:GREGORIAN
BEGIN:VEVENT
DTSTART:20200205T163000Z
DTEND:20200205T163000Z
X-MICROSOFT-CDO-ALLDAYEVENT:FALSE
SUMMARY:Shelter Insurance -Ribbon Cutting
DESCRIPTION:Grand Opening/Ribbon Cutting for \n\nShelter Insurance-Brandon Jennings & Jessica Wilkins
X-ALT-DESC;FMTTYPE=text/html:Grand Opening/Ribbon Cutting for&nbsp\;<br />\nShelter Insurance-Brandon Jennings &amp\; Jessica Wilkins
LOCATION:1806 W. Fair Avenue Lancaster\, Ohio 43130
UID:e.3121.411
SEQUENCE:3
DTSTAMP:20260423T173915Z
URL:https://business.lancoc.org/events/details/shelter-insurance-ribbon-cutting-411
END:VEVENT

END:VCALENDAR
