BEGIN:VCALENDAR
VERSION:2.0
PRODID:-//ChamberMaster//Event Calendar 2.0//EN
METHOD:PUBLISH
X-PUBLISHED-TTL:P3D
REFRESH-INTERVAL:P3D
CALSCALE:GREGORIAN
BEGIN:VEVENT
DTSTART;VALUE=DATE:20190806
DTEND;VALUE=DATE:20190807
TRANSP:TRANSPARENT
X-MICROSOFT-CDO-ALLDAYEVENT:TRUE
SUMMARY:Selections from the Pizzuti Collection
DESCRIPTION:While in Paris during the late 1960s\, Ron Pizzuti (born in Kent\, Ohio) wandered into a small gallery on a whim\, and was amazed to find himself face to face with what he describes as "a day-glo Frank Stella protractor painting." Little did he know that this chance encounter would set him and his wife Ann on the path to become recognized among the world's most forward-thinking collectors of contemporary art and design. ?Selections from the Pizzuti Collection will showcase the works of twenty-six different artists including both contemporary masters and emerging faces keen on leaving their mark on the art world. Local and international artists whose mediums range from painting and printmaking to sculpture and fiber art will be exhibited\, highlighting a collection that is diverse\, vibrant\, and provides a window into this moment in time.
X-ALT-DESC;FMTTYPE=text/html:While in Paris during the late 1960s\, Ron Pizzuti (born in Kent\, Ohio) wandered into a small gallery on a whim\, and was amazed to find himself face to face with what he describes as &ldquo\;a day-glo Frank Stella protractor painting.&rdquo\; Little did he know that this chance encounter would set him and his wife Ann on the path to become recognized among the world&rsquo\;s most forward-thinking collectors of contemporary art and design. ?Selections from the Pizzuti Collection will showcase the works of twenty-six different artists including both contemporary masters and emerging faces keen on leaving their mark on the art world. Local and international artists whose mediums range from painting and printmaking to sculpture and fiber art will be exhibited\, highlighting a collection that is diverse\, vibrant\, and provides a window into this moment in time.
LOCATION:The Decorative Arts Center of Ohio
UID:e.3121.277
SEQUENCE:3
DTSTAMP:20260424T093351Z
URL:https://business.lancoc.org/events/details/selections-from-the-pizzuti-collection-08-06-2019-277
END:VEVENT

END:VCALENDAR
