BEGIN:VCALENDAR
VERSION:2.0
PRODID:-//ChamberMaster//Event Calendar 2.0//EN
METHOD:PUBLISH
X-PUBLISHED-TTL:P3D
REFRESH-INTERVAL:P3D
CALSCALE:GREGORIAN
BEGIN:VEVENT
DTSTART:20210624T200000Z
DTEND:20210624T204500Z
X-MICROSOFT-CDO-ALLDAYEVENT:FALSE
SUMMARY:Ribbon cuttings: Lancaster offices of Keller Williams Greater Columbus Realty
DESCRIPTION:Please Join us as we welcome the 2 new Lancaster locations of Keller Williams Greater Columbus Realty during their Open House\, Thursday June 24\, 2021.\n\n\n\nRibbon Cutting Schedule:\n\n4:00 P.M.: 603 W. Wheeling St. (Gorsuch Building)\n\n4:30 P.M.: 113 W. Wheeling Street (Downtown Location)\n\n                 \n\n \n\nOpen House at both locations will be held from 4-6 p.m.
X-ALT-DESC;FMTTYPE=text/html:<div><span style="font-size:16px\;"><span style="font-family: Questrial\, sans-serif\;">Please Join us as we welcome the 2 new Lancaster locations of Keller Williams Greater Columbus Realty during their Open House\, Thursday June 24\, 2021.<br />\n<br />\n<span style="color:#FF0000\;"><strong>Ribbon Cutting Schedule:</strong></span></span></span></div>\n\n<div><span style="font-size:16px\;"><strong>4:00 P.M</strong>.: 603 W. Wheeling St. (Gorsuch Building)<br />\n<strong>4:30 P.M</strong>.: 113 W. Wheeling Street (Downtown Location)<br />\n<strong style="color: rgb(51\, 51\, 51)\; font-family: sans-serif\, Arial\, Verdana\, &quot\;Trebuchet MS&quot\;\; font-size: 16px\; background-color: rgb(255\, 255\, 255)\;">&nbsp\;&nbsp\; &nbsp\; &nbsp\; &nbsp\; &nbsp\; &nbsp\; &nbsp\; &nbsp\; </strong></span></div>\n\n<div><span style="font-size:16px\;">&nbsp\;</span><br />\n<strong><span style="font-size:16px\;">Open House at both locations will be held from 4-6 p.m.</span></strong><br />\n&nbsp\;</div>\n
LOCATION:
UID:e.3121.608
SEQUENCE:3
DTSTAMP:20260422T130100Z
URL:https://business.lancoc.org/events/details/ribbon-cuttings-lancaster-offices-of-keller-williams-greater-columbus-realty-608
END:VEVENT

END:VCALENDAR
