BEGIN:VCALENDAR
VERSION:2.0
PRODID:-//ChamberMaster//Event Calendar 2.0//EN
METHOD:PUBLISH
X-PUBLISHED-TTL:P3D
REFRESH-INTERVAL:P3D
CALSCALE:GREGORIAN
BEGIN:VEVENT
DTSTART:20210805T203000Z
DTEND:20210805T210000Z
X-MICROSOFT-CDO-ALLDAYEVENT:FALSE
SUMMARY:Ribbon Cutting\, WLOH The Wolf\, New Location
DESCRIPTION:Join us at a Ribbon Cutting Ceremony for WLOH - The Wolf at their new location at 2680 N. Columbus Street in Lancaster
X-ALT-DESC;FMTTYPE=text/html:Join us at a Ribbon Cutting Ceremony for WLOH - The Wolf at their new location at 2680 N. Columbus Street in Lancaster
LOCATION:2680 N. Columbus Street\, Lancaster\, OH
UID:e.3121.631
SEQUENCE:3
DTSTAMP:20260422T091507Z
URL:https://business.lancoc.org/events/details/ribbon-cutting-wloh-the-wolf-new-location-631
END:VEVENT

END:VCALENDAR
