BEGIN:VCALENDAR
VERSION:2.0
PRODID:-//ChamberMaster//Event Calendar 2.0//EN
METHOD:PUBLISH
X-PUBLISHED-TTL:P3D
REFRESH-INTERVAL:P3D
CALSCALE:GREGORIAN
BEGIN:VEVENT
DTSTART:20231009T200000Z
DTEND:20231009T201500Z
X-MICROSOFT-CDO-ALLDAYEVENT:FALSE
SUMMARY:Ribbon Cutting - WLOH 75th Anniversary at the Fairfield County Fair
DESCRIPTION:WLOH is celebrating 75 years of local radio and service to our community!\n\n\n\nJoin Wolf Country Radio and the Lancaster Fairfield County Chamber of Commerce for a special 75th Anniversary ribbon-cutting Monday\, Oct. 9 at the Fairfield County Fair. \n\n\n\nThe ribbon-cutting takes place at 4 p.m. just inside the main fairgrounds entrance at the WLOH tent (next to the log cabin).
X-ALT-DESC;FMTTYPE=text/html:WLOH is celebrating 75 years of local radio and service to our community!<br />\n<br />\nJoin Wolf Country Radio and the Lancaster Fairfield County Chamber of Commerce for a special 75th Anniversary ribbon-cutting Monday\, Oct. 9 at the Fairfield County Fair.&nbsp\;<br />\n<br />\nThe ribbon-cutting takes place at 4 p.m. just inside the main fairgrounds entrance at the WLOH tent (next to the log cabin).
LOCATION:Fairfield County Fairgrounds 157 E. Fair Ave. WLOH Tent
UID:e.3121.922
SEQUENCE:3
DTSTAMP:20260422T091852Z
URL:https://business.lancoc.org/events/details/ribbon-cutting-wloh-75th-anniversary-at-the-fairfield-county-fair-922
END:VEVENT

END:VCALENDAR
