BEGIN:VCALENDAR
VERSION:2.0
PRODID:-//ChamberMaster//Event Calendar 2.0//EN
METHOD:PUBLISH
X-PUBLISHED-TTL:P3D
REFRESH-INTERVAL:P3D
CALSCALE:GREGORIAN
BEGIN:VEVENT
DTSTART:20231031T160000Z
DTEND:20231031T163000Z
X-MICROSOFT-CDO-ALLDAYEVENT:FALSE
SUMMARY:Ribbon Cutting - Wellness Within Chiropractic
DESCRIPTION:Join us for the grand-opening of Wellness Within Chiropractic in Lancaster on Tuesday\, Oct. 31 at Noon! The ribbon cutting takes place at 2658 N. Columbus St. Suite G.\n\n\n\nDr. Emily Miller\, a Lancaster native and 2011 Fisher Catholic High School graduate\, helps treat a variety of patients from days-old infants and pregnant mothers to elderly clients in their 90s! Learn more about Wellness Within Chiropractic and their wide-range of services by visiting WellnessWithinChiropractic.com.
X-ALT-DESC;FMTTYPE=text/html:Join us for the grand-opening of Wellness Within Chiropractic in Lancaster on Tuesday\, Oct. 31 at Noon! The ribbon cutting takes place at 2658 N. Columbus St. Suite G.<br />\n<br />\nDr. Emily Miller\, a Lancaster native and 2011 Fisher Catholic High School graduate\, helps treat a variety of patients from days-old infants and pregnant mothers to elderly clients in their 90s! Learn more about Wellness Within Chiropractic and their wide-range of services by visiting <a href="https://www.wellnesswithinchiropractic.com/meet-the-doctor-1-1">WellnessWithinChiropractic.com.</a>
LOCATION:Wellness Within Chiropractic 2658 N. Columbus St. Suite G Lancaster
UID:e.3121.925
SEQUENCE:3
DTSTAMP:20260423T054511Z
URL:https://business.lancoc.org/events/details/ribbon-cutting-wellness-within-chiropractic-925
END:VEVENT

END:VCALENDAR
