BEGIN:VCALENDAR
VERSION:2.0
PRODID:-//ChamberMaster//Event Calendar 2.0//EN
METHOD:PUBLISH
X-PUBLISHED-TTL:P3D
REFRESH-INTERVAL:P3D
CALSCALE:GREGORIAN
BEGIN:VEVENT
DTSTART:20220610T160000Z
DTEND:20220610T170000Z
X-MICROSOFT-CDO-ALLDAYEVENT:FALSE
SUMMARY:Ribbon Cutting - The Ultimate Look 25th Anniversary
DESCRIPTION:The Ultimate Look is celebrating 25 years!\n\nJoin us for free food and giveaways with a special ribbon-cutting at Noon.\n\nCome help us celebrate at 1440 Tiki Lane in Lancaster on Friday\, June 10!
X-ALT-DESC;FMTTYPE=text/html:<p>The Ultimate Look is celebrating 25 years!</p>\n\n<p>Join us for free food and giveaways with a special ribbon-cutting at Noon.</p>\n\n<p>Come help us celebrate at 1440 Tiki Lane in Lancaster on Friday\, June 10!</p>\n
LOCATION:1440 Tiki Lane Lancaster\, OH 43130
UID:e.3121.774
SEQUENCE:3
DTSTAMP:20260419T164506Z
URL:https://business.lancoc.org/events/details/ribbon-cutting-the-ultimate-look-25th-anniversary-774
END:VEVENT

END:VCALENDAR
