BEGIN:VCALENDAR
VERSION:2.0
PRODID:-//ChamberMaster//Event Calendar 2.0//EN
METHOD:PUBLISH
X-PUBLISHED-TTL:P3D
REFRESH-INTERVAL:P3D
CALSCALE:GREGORIAN
BEGIN:VEVENT
DTSTART:20210901T200000Z
DTEND:20210901T203000Z
X-MICROSOFT-CDO-ALLDAYEVENT:FALSE
SUMMARY:Ribbon Cutting\, The Ridge at Lancaster
DESCRIPTION:Join us on Wednesday\, September 1st\, 2021 at 4 pm for a \n\nRibbon Cutting for The Ridge at Lancaster\n\nat 241 Whittier Drive South in Lancaster.
X-ALT-DESC;FMTTYPE=text/html:<div style="text-align: center\;"><span style="font-size:20px\;">Join us&nbsp\;on <strong>Wednesday\, September 1st\, 2021</strong> <strong>at 4 pm</strong> for a<span background-color:="" style="color: rgb(51\, 51\, 51)\; font-family: sans-serif\, Arial\, Verdana\, " trebuchet="">&nbsp\;<br />\nRibbon Cutting for <strong>The Ridge at Lancaster</strong><br />\nat 241 Whittier Drive South in Lancaster.</span></span></div>\n
LOCATION:The Ridge in Lancaster 241 Whittier Drive South Lancaster\, OH 43130
UID:e.3121.653
SEQUENCE:3
DTSTAMP:20260420T072400Z
URL:https://business.lancoc.org/events/details/ribbon-cutting-the-ridge-at-lancaster-653
END:VEVENT

END:VCALENDAR
