BEGIN:VCALENDAR
VERSION:2.0
PRODID:-//ChamberMaster//Event Calendar 2.0//EN
METHOD:PUBLISH
X-PUBLISHED-TTL:P3D
REFRESH-INTERVAL:P3D
CALSCALE:GREGORIAN
BEGIN:VEVENT
DTSTART:20220317T200000Z
DTEND:20220317T203000Z
X-MICROSOFT-CDO-ALLDAYEVENT:FALSE
SUMMARY:Ribbon Cutting - Southern Roots Nutrition
DESCRIPTION:Join us for a ribbon cutting at Southern Roots Nutrition in Carroll! \n\n\n\nLocated on W. Canal Street\, Southern Roots Nutrition offers a wide variety of shakes and teas packed with supplements and nutrients.
X-ALT-DESC;FMTTYPE=text/html:Join us for a ribbon cutting at Southern Roots Nutrition in Carroll!&nbsp\;<br />\n<br />\nLocated on W. Canal Street\, Southern Roots Nutrition offers a wide variety of shakes and teas packed with supplements and nutrients.
LOCATION:62 W. Canal St.\, Carroll\, OH
UID:e.3121.768
SEQUENCE:3
DTSTAMP:20260419T222203Z
URL:https://business.lancoc.org/events/details/ribbon-cutting-southern-roots-nutrition-768
END:VEVENT

END:VCALENDAR
