BEGIN:VCALENDAR
VERSION:2.0
PRODID:-//ChamberMaster//Event Calendar 2.0//EN
METHOD:PUBLISH
X-PUBLISHED-TTL:P3D
REFRESH-INTERVAL:P3D
CALSCALE:GREGORIAN
BEGIN:VEVENT
DTSTART:20231027T140000Z
DTEND:20231027T143000Z
X-MICROSOFT-CDO-ALLDAYEVENT:FALSE
SUMMARY:Ribbon Cutting - Scooter's Coffee
DESCRIPTION:Join us for the grand-opening of Lancaster's newest coffee shop\, Scooter's Coffee!\n\n\n\nLocated on the former site of Root's Restaurant\, Scooter's is a drive-thru only coffee shop that's locally-franchised and located on N. Memorial Drive next to Park National Bank.\n\n\n\nTo celebrate their newest location\, Scooter's will be offering Buy One\, Get One Free on drinks all-day Friday\, Sept. 29 when customers use the Scooter's mobile app and scan the code. \n\n\n\nThe ribbon-cutting ceremony takes place Friday\, Oct. 27 at 10 a.m. Stop by to see the new location and grab some morning caffeine to start your day!
X-ALT-DESC;FMTTYPE=text/html:Join us for the grand-opening of Lancaster&#39\;s newest coffee shop\, Scooter&#39\;s Coffee!<br />\n<br />\nLocated on the former site of Root&#39\;s Restaurant\, Scooter&#39\;s is a drive-thru only coffee shop that&#39\;s locally-franchised and located on N. Memorial Drive next to Park National Bank.<br />\n<br />\nTo celebrate their newest location\, Scooter&#39\;s will be offering Buy One\, Get One Free on drinks all-day Friday\, Sept. 29 when customers use the Scooter&#39\;s mobile app and scan the code.&nbsp\;<br />\n<br />\nThe ribbon-cutting ceremony takes place Friday\, Oct. 27 at 10 a.m. Stop by to see the new location and grab some morning caffeine to start your day!
LOCATION:Scooter's Coffee 1260 N. Memorial Drive Lancaster
UID:e.3121.910
SEQUENCE:3
DTSTAMP:20260423T054449Z
URL:https://business.lancoc.org/events/details/ribbon-cutting-scooter-s-coffee-910
END:VEVENT

END:VCALENDAR
