BEGIN:VCALENDAR
VERSION:2.0
PRODID:-//ChamberMaster//Event Calendar 2.0//EN
METHOD:PUBLISH
X-PUBLISHED-TTL:P3D
REFRESH-INTERVAL:P3D
CALSCALE:GREGORIAN
BEGIN:VEVENT
DTSTART:20210811T170000Z
DTEND:20210811T190000Z
X-MICROSOFT-CDO-ALLDAYEVENT:FALSE
SUMMARY:Ribbon Cutting\, Rockford Homes the Overlook Grand Opening
DESCRIPTION:Join us for a Ribbon Cutting at the Grand Opening for Rockford Homes'\, The Overlook at 934 Thorn Hill Place in Lancaster. There will also be Door Prizes and Food & Drinks.
X-ALT-DESC;FMTTYPE=text/html:Join us for a Ribbon Cutting at the Grand Opening for Rockford Homes&#39\;\, The Overlook at 934 Thorn Hill Place in Lancaster. There will also be Door Prizes and Food &amp\; Drinks.
LOCATION:934 Thorn Hill Place\, Lancaster\, OH
UID:e.3121.630
SEQUENCE:3
DTSTAMP:20260422T092124Z
URL:https://business.lancoc.org/events/details/ribbon-cutting-rockford-homes-the-overlook-grand-opening-630
END:VEVENT

END:VCALENDAR
