BEGIN:VCALENDAR
VERSION:2.0
PRODID:-//ChamberMaster//Event Calendar 2.0//EN
METHOD:PUBLISH
X-PUBLISHED-TTL:P3D
REFRESH-INTERVAL:P3D
CALSCALE:GREGORIAN
BEGIN:VEVENT
DTSTART:20190806T150000Z
DTEND:20190806T153000Z
X-MICROSOFT-CDO-ALLDAYEVENT:FALSE
SUMMARY:Ribbon Cutting: Pearl Yoga and Teacher Training Studio
DESCRIPTION:
X-ALT-DESC;FMTTYPE=text/html:
LOCATION:616 Forest Rose Avenue Lancaster\, Ohio 43130
UID:e.3121.315
SEQUENCE:3
DTSTAMP:20260424T050100Z
URL:https://business.lancoc.org/events/details/ribbon-cutting-pearl-yoga-and-teacher-training-studio-315
END:VEVENT

END:VCALENDAR
