BEGIN:VCALENDAR
VERSION:2.0
PRODID:-//ChamberMaster//Event Calendar 2.0//EN
METHOD:PUBLISH
X-PUBLISHED-TTL:P3D
REFRESH-INTERVAL:P3D
CALSCALE:GREGORIAN
BEGIN:VEVENT
DTSTART:20211117T210000Z
DTEND:20211117T213000Z
X-MICROSOFT-CDO-ALLDAYEVENT:FALSE
SUMMARY:Ribbon Cutting\, Path Behavioral Health
DESCRIPTION:Join us at a Ribbon Cutting Ceremony for Path Behavioral Health\n\nat 117 W. Main Street in Lancaster \n\n\n\nThey will also have an open house from 1 - 4 pm on that day.
X-ALT-DESC;FMTTYPE=text/html:<div style="text-align: center\;"><span style="font-size:16px\;">Join us at a Ribbon Cutting Ceremony for <strong>Path Behavioral Health</strong><br />\nat 117 W. Main Street in Lancaster&nbsp\;<br />\n<br />\nThey will also have&nbsp\;an open house from 1 - 4 pm on that day.</span></div>\n
LOCATION:Path Behavioral Health 117 W. Main Street Lancaster\, OH 43130
UID:e.3121.727
SEQUENCE:3
DTSTAMP:20260424T232348Z
URL:https://business.lancoc.org/events/details/ribbon-cutting-path-behavioral-health-727
END:VEVENT

END:VCALENDAR
