BEGIN:VCALENDAR
VERSION:2.0
PRODID:-//ChamberMaster//Event Calendar 2.0//EN
METHOD:PUBLISH
X-PUBLISHED-TTL:P3D
REFRESH-INTERVAL:P3D
CALSCALE:GREGORIAN
BEGIN:VEVENT
DTSTART:20191007T120000Z
DTEND:20191007T123000Z
X-MICROSOFT-CDO-ALLDAYEVENT:FALSE
SUMMARY:Ribbon Cutting: Opening of the 169th Fairfield County Fair
DESCRIPTION:Ribbon Cutting to open the\n\n169th Fairfield County Fair\n\n\n\nClick here for the Fairfield County Fair Schedule
X-ALT-DESC;FMTTYPE=text/html:Ribbon Cutting to open the<br />\n169th Fairfield County Fair<br />\n<br />\n<a href="http://www.fairfieldcountyfair.org/fair-program">Click here</a> for the Fairfield County Fair Schedule<br />\n&nbsp\;
LOCATION:Fairfield County Fairgrounds Main Gate 157 E. Fair Avenue Lancaster\, Ohio 43130
UID:e.3121.352
SEQUENCE:3
DTSTAMP:20260424T043758Z
URL:https://business.lancoc.org/events/details/ribbon-cutting-opening-of-the-169th-fairfield-county-fair-352
END:VEVENT

END:VCALENDAR
