BEGIN:VCALENDAR
VERSION:2.0
PRODID:-//ChamberMaster//Event Calendar 2.0//EN
METHOD:PUBLISH
X-PUBLISHED-TTL:P3D
REFRESH-INTERVAL:P3D
CALSCALE:GREGORIAN
BEGIN:VEVENT
DTSTART:20211011T120000Z
DTEND:20211011T130000Z
X-MICROSOFT-CDO-ALLDAYEVENT:FALSE
SUMMARY:Ribbon Cutting\, Opening for the 171st Fairfield County Fair
DESCRIPTION:Please join us for a Ribbon Cutting Ceremony to open the\n\n171st Fairfield County Fair.\n\n\n\nClick HERE for the 2021 Fairfield County Fair Schedule.
X-ALT-DESC;FMTTYPE=text/html:<div style="text-align: center\;"><span style="font-size:18px\;">Please join us for a Ribbon Cutting Ceremony to open the<br />\n171st Fairfield County Fair.<br />\n<br />\nClick <a href="https://chambermaster.blob.core.windows.net/userfiles/UserFiles/chambers/3121/File/FairfieldCountyFairSchedule.pdf">HERE</a> for the 2021 Fairfield County Fair Schedule.&nbsp\;&nbsp\;</span></div>\n
LOCATION:Fairfield County Fairgrounds Grandstand 157 E. Fair Avenue Lancaster\, OH 43130
UID:e.3121.698
SEQUENCE:3
DTSTAMP:20260420T074832Z
URL:https://business.lancoc.org/events/details/ribbon-cutting-opening-for-the-171st-fairfield-county-fair-698
END:VEVENT

END:VCALENDAR
