BEGIN:VCALENDAR
VERSION:2.0
PRODID:-//ChamberMaster//Event Calendar 2.0//EN
METHOD:PUBLISH
X-PUBLISHED-TTL:P3D
REFRESH-INTERVAL:P3D
CALSCALE:GREGORIAN
BEGIN:VEVENT
DTSTART:20191031T200000Z
DTEND:20191031T203000Z
X-MICROSOFT-CDO-ALLDAYEVENT:FALSE
SUMMARY:Ribbon cutting: Opening Ceremony of Freedom's Never Free
DESCRIPTION:Ribbon cutting to open the event:\n\nFreedom's Never Free
X-ALT-DESC;FMTTYPE=text/html:Ribbon cutting to open the event:<br />\nFreedom&#39\;s Never Free&nbsp\;
LOCATION:Fairfield County Fairgrounds Ed Sands Building 157 E. Fair Avenue Lancaster\, Ohio 43130
UID:e.3121.354
SEQUENCE:3
DTSTAMP:20260424T043801Z
URL:https://business.lancoc.org/events/details/ribbon-cutting-opening-ceremony-of-freedom-s-never-free-354
END:VEVENT

END:VCALENDAR
