BEGIN:VCALENDAR
VERSION:2.0
PRODID:-//ChamberMaster//Event Calendar 2.0//EN
METHOD:PUBLISH
X-PUBLISHED-TTL:P3D
REFRESH-INTERVAL:P3D
CALSCALE:GREGORIAN
BEGIN:VEVENT
DTSTART:20191015T200000Z
DTEND:20191015T203000Z
X-MICROSOFT-CDO-ALLDAYEVENT:FALSE
SUMMARY:Ribbon Cutting: Ohio Glass Museum Building Change in Ownership
DESCRIPTION:Ribbon Cutting at Ohio Glass Museum for Building Change in Ownership\n\n\n\nThe Ohio Glass Museum and Visit Fairfield County (the Fairfield County Visitors and Convention Bureau) have announced the completion of another key element in the OGM strategic sustainability plan. The board has purchased the building housing the Ohio Glass Museum on W. Main Street in Lancaster from Visit Fairfield County.
X-ALT-DESC;FMTTYPE=text/html:<br />\n<strong>Ribbon Cutting at Ohio Glass Museum for Building Change in Ownershi</strong>p<br />\n<br />\nThe Ohio Glass Museum and Visit Fairfield County (the Fairfield County Visitors and Convention Bureau) have announced the completion of another key element in the OGM strategic sustainability plan. The board has purchased the building housing the Ohio Glass Museum on W. Main Street in Lancaster from Visit Fairfield County.<br />\n&nbsp\;
LOCATION:124 W. Main Street Lancaster\, Ohio 43130
UID:e.3121.355
SEQUENCE:3
DTSTAMP:20260424T010219Z
URL:https://business.lancoc.org/events/details/ribbon-cutting-ohio-glass-museum-building-change-in-ownership-355
END:VEVENT

END:VCALENDAR
