BEGIN:VCALENDAR
VERSION:2.0
PRODID:-//ChamberMaster//Event Calendar 2.0//EN
METHOD:PUBLISH
X-PUBLISHED-TTL:P3D
REFRESH-INTERVAL:P3D
CALSCALE:GREGORIAN
BEGIN:VEVENT
DTSTART:20241002T160000Z
DTEND:20241002T163000Z
X-MICROSOFT-CDO-ALLDAYEVENT:FALSE
SUMMARY:Ribbon Cutting - Modern Furniture By Don's
DESCRIPTION:Don's Furniture in Lancaster is expanding! Come out on Wednesday\, Oct. 2 to experience the all-new Modern Furniture By Don's showroom at 647 E. Main Street in Lancaster. More details will be shared in the near future\, so stay tuned!
X-ALT-DESC;FMTTYPE=text/html:Don&#39\;s Furniture in Lancaster is expanding! Come out on Wednesday\, Oct. 2 to experience the all-new Modern Furniture By Don&#39\;s showroom at 647 E. Main Street in Lancaster. More details will be shared in the near future\, so stay tuned!
LOCATION:Modern Furniture By Don's 647 E. Main St. Lancaster
UID:e.3121.1108
SEQUENCE:3
DTSTAMP:20260423T053011Z
URL:https://business.lancoc.org/events/details/ribbon-cutting-modern-furniture-by-don-s-1108
END:VEVENT

END:VCALENDAR
