BEGIN:VCALENDAR
VERSION:2.0
PRODID:-//ChamberMaster//Event Calendar 2.0//EN
METHOD:PUBLISH
X-PUBLISHED-TTL:P3D
REFRESH-INTERVAL:P3D
CALSCALE:GREGORIAN
BEGIN:VEVENT
DTSTART:20231114T213000Z
DTEND:20231114T220000Z
X-MICROSOFT-CDO-ALLDAYEVENT:FALSE
SUMMARY:Ribbon Cutting - Meals On Wheels 50th Anniversary
DESCRIPTION:Meals On Wheels of Fairfield County is celebrating its 50th Anniversary with an open house event and ribbon cutting ceremony on Nov. 14!\n\n\n\nJoin us at 4:30 p.m. at 1515 Cedar Hill Road in Lancaster to learn about the wide array of services Meals On Wheels of Fairfield County provides seniors in our local community. \n\n\n\nAbout Meals on Wheels of Fairfield County:\n\nMeals on Wheels of Fairfield County has been feeding and caring for older adults during a time in their lives when they need us most. Our work is an important and necessary part of the continuum of care for older adults and their families. With over 25 varied programs and services\, Meals on Wheels Fairfield County serves as a network of support for thousands of older adults living in Fairfield County ensuring health\, connection\, and independence.
X-ALT-DESC;FMTTYPE=text/html:Meals On Wheels of Fairfield County is celebrating its 50th Anniversary with an open house event and ribbon cutting ceremony on Nov. 14!<br />\n<br />\nJoin us at 4:30 p.m. at 1515 Cedar Hill Road in Lancaster to learn about the wide array of services Meals On Wheels of Fairfield County provides seniors in our local community.&nbsp\;<br />\n<br />\n<span style="color:#A9A9A9\;"><em><strong>About Meals on Wheels of Fairfield County:</strong></em><br />\nMeals on Wheels of Fairfield County has been feeding and caring for older adults during a time in their lives when they need us most. Our work is an important and necessary part of the continuum of care for older adults and their families. With over 25 varied programs and services\, Meals on Wheels Fairfield County serves as a network of support for thousands of older adults living in Fairfield County ensuring health\, connection\, and independence.</span>
LOCATION:1515 Cedar Hill Road Lancaster
UID:e.3121.936
SEQUENCE:3
DTSTAMP:20260422T125243Z
URL:https://business.lancoc.org/events/details/ribbon-cutting-meals-on-wheels-50th-anniversary-936
END:VEVENT

END:VCALENDAR
