BEGIN:VCALENDAR
VERSION:2.0
PRODID:-//ChamberMaster//Event Calendar 2.0//EN
METHOD:PUBLISH
X-PUBLISHED-TTL:P3D
REFRESH-INTERVAL:P3D
CALSCALE:GREGORIAN
BEGIN:VEVENT
DTSTART:20191119T210000Z
DTEND:20191119T230000Z
X-MICROSOFT-CDO-ALLDAYEVENT:FALSE
SUMMARY:Ribbon Cutting: Lancaster Pediatric Dentistry's Expansion & Open House
DESCRIPTION:4:00 P.M: Ribbon cutting ceremony for Lancaster Pediatric Dentistry's \n\nOpen House: 4-6 P.M.
X-ALT-DESC;FMTTYPE=text/html:4:00 P.M: Ribbon cutting ceremony for Lancaster Pediatric Dentistry&#39\;s&nbsp\;<br />\nOpen House: 4-6 P.M.
LOCATION:121 E Sixth Avenue Suite 101 Lancaster\, OH 43130
UID:e.3121.377
SEQUENCE:3
DTSTAMP:20260423T230117Z
URL:https://business.lancoc.org/events/details/ribbon-cutting-lancaster-pediatric-dentistry-s-expansion-open-house-377
END:VEVENT

END:VCALENDAR
