BEGIN:VCALENDAR
VERSION:2.0
PRODID:-//ChamberMaster//Event Calendar 2.0//EN
METHOD:PUBLISH
X-PUBLISHED-TTL:P3D
REFRESH-INTERVAL:P3D
CALSCALE:GREGORIAN
BEGIN:VEVENT
DTSTART:20211102T200000Z
DTEND:20211102T220000Z
X-MICROSOFT-CDO-ALLDAYEVENT:FALSE
SUMMARY:Ribbon Cutting\, Joni and Friends
DESCRIPTION:Join us at a Ribbon Cutting Ceremony and Open House\n\nfor Joni and Friends.
X-ALT-DESC;FMTTYPE=text/html:<div style="text-align: center\;"><span style="font-size:18px\;">Join us at a Ribbon Cutting Ceremony and Open House<br />\nfor Joni and Friends.</span></div>\n<br />\n&nbsp\;
LOCATION:Joni and Friends 2682 North Columbus Street\, Suite C. Lancaster\, OH
UID:e.3121.706
SEQUENCE:3
DTSTAMP:20260424T232429Z
URL:https://business.lancoc.org/events/details/ribbon-cutting-joni-and-friends-706
END:VEVENT

END:VCALENDAR
