BEGIN:VCALENDAR
VERSION:2.0
PRODID:-//ChamberMaster//Event Calendar 2.0//EN
METHOD:PUBLISH
X-PUBLISHED-TTL:P3D
REFRESH-INTERVAL:P3D
CALSCALE:GREGORIAN
BEGIN:VEVENT
DTSTART:20210909T200000Z
DTEND:20210909T203000Z
X-MICROSOFT-CDO-ALLDAYEVENT:FALSE
SUMMARY:Ribbon Cutting\, Fashion & Vanity Cleaners
DESCRIPTION:Join us for a Ribbon Cutting Ceremony for Fashion & Vanity Cleaners\n\nat 2585 E. Main St. in Lancaster\n\non Thursday\, September 9th\, 2021 at 4 pm.\n\n\n\nThere will also be a tour of the facilities\n\nand an equipment demonstration\,\n\nimmediately following the Ribbon Cutting Ceremony.
X-ALT-DESC;FMTTYPE=text/html:<div style="text-align: center\;"><span style="font-size:20px\;">Join us for a Ribbon Cutting Ceremony for <strong>Fashion &amp\; Vanity Cleaners</strong></span></div>\n\n<div style="text-align: center\;"><span style="font-size:20px\;">at 2585 E. Main St. in Lancaster<br />\non <strong>Thursday\, September 9th\, 2021 at 4 pm.</strong><br />\n<br />\n<span style="font-size:18px\;">There will also be a tour of the facilities<br />\nand an equipment demonstration\,<br />\nimmediately&nbsp\;following the Ribbon Cutting Ceremony.</span></span></div>\n
LOCATION:Fashion Vanity Cleaners 2585 E Main St. Lancaster\, OH
UID:e.3121.666
SEQUENCE:3
DTSTAMP:20260420T072637Z
URL:https://business.lancoc.org/events/details/ribbon-cutting-fashion-vanity-cleaners-666
END:VEVENT

END:VCALENDAR
