BEGIN:VCALENDAR
VERSION:2.0
PRODID:-//ChamberMaster//Event Calendar 2.0//EN
METHOD:PUBLISH
X-PUBLISHED-TTL:P3D
REFRESH-INTERVAL:P3D
CALSCALE:GREGORIAN
BEGIN:VEVENT
DTSTART:20210623T200000Z
DTEND:20210623T210000Z
X-MICROSOFT-CDO-ALLDAYEVENT:FALSE
SUMMARY:Ribbon Cutting\, Fairfield Homes' East Point Apartments & Lofts
DESCRIPTION:Please Join us on Wednesday\, June 23rd at 4 pm for a Ribbon Cutting Ceremony for Fairfield Homes' East Point Apartments & Lofts.
X-ALT-DESC;FMTTYPE=text/html:<div><span style="font-size:16px\;">Please Join us on <strong>Wednesday\, </strong><span style="font-weight: bold\;">June 23rd at 4 pm</span> for a Ribbon Cutting Ceremony for Fairfield Homes&#39\; East Point Apartments &amp\; Lofts.</span></div>\n
LOCATION:East Point Apartments & Lofts 805 E Wheeling St\, Lancaster\, OH 43130
UID:e.3121.601
SEQUENCE:3
DTSTAMP:20260425T102911Z
URL:https://business.lancoc.org/events/details/ribbon-cutting-fairfield-homes-east-point-apartments-lofts-601
END:VEVENT

END:VCALENDAR
