BEGIN:VCALENDAR
VERSION:2.0
PRODID:-//ChamberMaster//Event Calendar 2.0//EN
METHOD:PUBLISH
X-PUBLISHED-TTL:P3D
REFRESH-INTERVAL:P3D
CALSCALE:GREGORIAN
BEGIN:VEVENT
DTSTART:20210922T200000Z
DTEND:20210922T203000Z
X-MICROSOFT-CDO-ALLDAYEVENT:FALSE
SUMMARY:Ribbon Cutting\, Fairfield County Workforce Center
DESCRIPTION:Join us for a Ribbon Cutting Ceremony for the Fairfield Workforce Center\n\nat 4465 Coonpath Rd NW in Carroll\,\n\non Wednesday\, September 22nd\, 2021 at 4 pm.\n\n\n\nThere will be an open house and building tour\n\nimmediately following the ribbon cutting.
X-ALT-DESC;FMTTYPE=text/html:<div style="text-align: center\;"><span style="font-size:18px\;">Join us for a<strong> Ribbon Cutting Ceremony for the Fairfield Workforce Center</strong><br />\nat 4465 Coonpath Rd NW in Carroll\,<br />\non<strong> Wednesday\, September 22nd\, 2021 at 4 pm.</strong><br />\n<br />\nThere will be an open house and building tour<br />\nimmediately following the ribbon cutting.</span></div>\n
LOCATION:Fairfield Workforce Center 4465 Coonpath Rd NW\, Carroll\, OH
UID:e.3121.667
SEQUENCE:3
DTSTAMP:20260420T072500Z
URL:https://business.lancoc.org/events/details/ribbon-cutting-fairfield-county-workforce-center-667
END:VEVENT

END:VCALENDAR
