BEGIN:VCALENDAR
VERSION:2.0
PRODID:-//ChamberMaster//Event Calendar 2.0//EN
METHOD:PUBLISH
X-PUBLISHED-TTL:P3D
REFRESH-INTERVAL:P3D
CALSCALE:GREGORIAN
BEGIN:VEVENT
DTSTART:20191204T213000Z
DTEND:20191204T223000Z
X-MICROSOFT-CDO-ALLDAYEVENT:FALSE
SUMMARY:Ribbon Cutting & Dedication Ceremony for Thomas Ewing Junior High School
DESCRIPTION:Ribbon cutting and dedication ceremony for the new Thomas Ewing Junior High School.  An Open House will follow the ceremony.
X-ALT-DESC;FMTTYPE=text/html:Ribbon cutting and dedication ceremony for the new Thomas Ewing Junior High School.&nbsp\; An Open House will follow the ceremony.
LOCATION:Thomas Ewing Junior High School 2024 Sheridan Drive Lancaster\, OH 43130
UID:e.3121.382
SEQUENCE:3
DTSTAMP:20260424T004236Z
URL:https://business.lancoc.org/events/details/ribbon-cutting-dedication-ceremony-for-thomas-ewing-junior-high-school-382
END:VEVENT

END:VCALENDAR
