BEGIN:VCALENDAR
VERSION:2.0
PRODID:-//ChamberMaster//Event Calendar 2.0//EN
METHOD:PUBLISH
X-PUBLISHED-TTL:P3D
REFRESH-INTERVAL:P3D
CALSCALE:GREGORIAN
BEGIN:VEVENT
DTSTART:20211130T213000Z
DTEND:20211130T220000Z
X-MICROSOFT-CDO-ALLDAYEVENT:FALSE
SUMMARY:Ribbon Cutting\, Bruce Chiropractic New Location
DESCRIPTION:Join us at a Ribbon Cutting Ceremony for Bruce Chiropractic's New Location\n\nat  422 N. Columbus Street\, Lancaster.
X-ALT-DESC;FMTTYPE=text/html:<div style="text-align: center\;">&nbsp\;</div>\n\n<div style="text-align: center\;"><strong><span style="font-size:18px\;">Join us at a Ribbon Cutting Ceremony for Bruce Chiropractic&#39\;s New Location<br />\nat</span>&nbsp\; <span style="font-size:18px\;">422 N. Columbus Street\, Lancaster.</span></strong></div>\n
LOCATION:Bruce Chiropractic 422 N. Columbus Street Lancaster\, OH 43130
UID:e.3121.730
SEQUENCE:3
DTSTAMP:20260424T232424Z
URL:https://business.lancoc.org/events/details/ribbon-cutting-bruce-chiropractic-new-location-730
END:VEVENT

END:VCALENDAR
