BEGIN:VCALENDAR
VERSION:2.0
PRODID:-//ChamberMaster//Event Calendar 2.0//EN
METHOD:PUBLISH
X-PUBLISHED-TTL:P3D
REFRESH-INTERVAL:P3D
CALSCALE:GREGORIAN
BEGIN:VEVENT
DTSTART:20211006T153000Z
DTEND:20211006T163000Z
X-MICROSOFT-CDO-ALLDAYEVENT:FALSE
SUMMARY:Ribbon Cutting\, Bob's Backyard Barbeque's Bottled Sauce
DESCRIPTION:Join us for a Ribbon Cutting Ceremony at Bob's Backyard Barbeque\n\nas they announce the sale of their bottled sauces!
X-ALT-DESC;FMTTYPE=text/html:<div style="text-align: center\;"><span style="font-size:18px\;">Join us for a Ribbon Cutting Ceremony at Bob&#39\;s Backyard Barbeque<br />\nas they announce the sale of their bottled sauces!</span></div>\n
LOCATION:157 W. Main Street\, Lancaster\, OH 43130
UID:e.3121.697
SEQUENCE:3
DTSTAMP:20260420T055841Z
URL:https://business.lancoc.org/events/details/ribbon-cutting-bob-s-backyard-barbeque-s-bottled-sauce-697
END:VEVENT

END:VCALENDAR
