BEGIN:VCALENDAR
VERSION:2.0
PRODID:-//ChamberMaster//Event Calendar 2.0//EN
METHOD:PUBLISH
X-PUBLISHED-TTL:P3D
REFRESH-INTERVAL:P3D
CALSCALE:GREGORIAN
BEGIN:VEVENT
DTSTART:20220714T203000Z
DTEND:20220714T210000Z
X-MICROSOFT-CDO-ALLDAYEVENT:FALSE
SUMMARY:Ribbon Cutting: Barrel & Boar BBQ Factory Grand Re-Opening
DESCRIPTION:The Barrel & Boar BBQ Factory is celebrating its first year in Lancaster with a grand re-opening and ribbon cutting!\n\nCome out Thursday\, July 14 at 4:30 p.m. to celebrate with Barrel & Boar\, the Chamber of Commerce\, and the community.\n\nAlso\, be sure to stick around for the first-ever Backyard Smoke Off\, presented by Barrel & Boar and 90.9 - The River. The Smoke Off takes place at 5 p.m. after the ribbon cutting at Utica Park\, across the street from the BBQ Factory.
X-ALT-DESC;FMTTYPE=text/html:<p><span style="font-size:16px\;">The Barrel &amp\; Boar BBQ Factory is celebrating its first year in Lancaster with a grand re-opening and ribbon cutting!</span></p>\n\n<p><span style="font-size:16px\;">Come out Thursday\, July 14 at 4:30 p.m. to celebrate with Barrel &amp\; Boar\, the Chamber of Commerce\, and the community.</span></p>\n\n<p><span style="font-size:16px\;">Also\, be sure to stick around for the first-ever Backyard Smoke Off\, presented by Barrel &amp\; Boar and 90.9 - The River. The Smoke Off takes place at 5 p.m. after the ribbon cutting at Utica Park\, across the street from the BBQ Factory.&nbsp\;</span></p>\n
LOCATION:Barrel & Boar BBQ Factory 1217 S. Broad St.\, Lancaster
UID:e.3121.795
SEQUENCE:3
DTSTAMP:20260419T133410Z
URL:https://business.lancoc.org/events/details/ribbon-cutting-barrel-boar-bbq-factory-grand-re-opening-795
END:VEVENT

END:VCALENDAR
