BEGIN:VCALENDAR
VERSION:2.0
PRODID:-//ChamberMaster//Event Calendar 2.0//EN
METHOD:PUBLISH
X-PUBLISHED-TTL:P3D
REFRESH-INTERVAL:P3D
CALSCALE:GREGORIAN
BEGIN:VEVENT
DTSTART:20211203T210000Z
DTEND:20211203T213000Z
X-MICROSOFT-CDO-ALLDAYEVENT:FALSE
SUMMARY:Ribbon Cutting and Open House: The Beavers Dam
DESCRIPTION:Join us at a Ribbon Cutting Ceremony for the Grand Opening and Open House  of \n\nThe Beavers Dam\n\n1651 Granville Pike\, Lancaster\, Ohio\n\n\n\nBeavers Dam will be hosting an open house after the Ribbon Cutting ceremony from 5-9 pm. \nFood and Drinks will be provided for all  guests\, with the option to purchase select alcoholic beverages.\n\nIn addition\, there will be activities for all ages throughout the facility including:\n\nCorn Hole\n\nBounce House\n\nRaffles\n\nand other games
X-ALT-DESC;FMTTYPE=text/html:<div style="text-align: center\;"><span style="font-size:16px\;">Join us at a Ribbon Cutting Ceremony for&nbsp\;the Grand Opening and Open House&nbsp\; of&nbsp\;<br />\n<strong>The Beavers Dam</strong><br />\n1651 Granville Pike\, Lancaster\, Ohio<br />\n<br />\nBeavers Dam will be hosting an open house after the Ribbon Cutting ceremony from 5-9 pm.&nbsp\;</span>\n<div class="o9v6fnle cxmmr5t8 oygrvhab hcukyx3x c1et5uql" style="overflow-wrap: break-word\; margin: 0.5em 0px 0px\; font-family: &quot\;Segoe UI Historic&quot\;\, &quot\;Segoe UI&quot\;\, Helvetica\, Arial\, sans-serif\; color: rgb(5\, 5\, 5)\; font-size: 15px\; background-color: rgb(255\, 255\, 255)\;">Food and Drinks will be provided for all&nbsp\; guests\, with the option to purchase select alcoholic beverages.</div>\n\n<div class="o9v6fnle cxmmr5t8 oygrvhab hcukyx3x c1et5uql" style="overflow-wrap: break-word\; margin: 0.5em 0px 0px\; font-family: &quot\;Segoe UI Historic&quot\;\, &quot\;Segoe UI&quot\;\, Helvetica\, Arial\, sans-serif\; color: rgb(5\, 5\, 5)\; font-size: 15px\; background-color: rgb(255\, 255\, 255)\;">In addition\, there will be activities for all ages throughout the facility including:<br />\n<span style="color: rgb(5\, 5\, 5)\; font-family: &quot\;Segoe UI Historic&quot\;\, &quot\;Segoe UI&quot\;\, Helvetica\, Arial\, sans-serif\; font-size: 15px\; background-color: rgb(255\, 255\, 255)\;">Corn Hole</span><br style="color: rgb(5\, 5\, 5)\; font-family: &quot\;Segoe UI Historic&quot\;\, &quot\;Segoe UI&quot\;\, Helvetica\, Arial\, sans-serif\; font-size: 15px\; background-color: rgb(255\, 255\, 255)\;" />\n<span style="color: rgb(5\, 5\, 5)\; font-family: &quot\;Segoe UI Historic&quot\;\, &quot\;Segoe UI&quot\;\, Helvetica\, Arial\, sans-serif\; font-size: 15px\; background-color: rgb(255\, 255\, 255)\;">Bounce House</span><br style="color: rgb(5\, 5\, 5)\; font-family: &quot\;Segoe UI Historic&quot\;\, &quot\;Segoe UI&quot\;\, Helvetica\, Arial\, sans-serif\; font-size: 15px\; background-color: rgb(255\, 255\, 255)\;" />\n<span style="color: rgb(5\, 5\, 5)\; font-family: &quot\;Segoe UI Historic&quot\;\, &quot\;Segoe UI&quot\;\, Helvetica\, Arial\, sans-serif\; font-size: 15px\; background-color: rgb(255\, 255\, 255)\;">Raffles</span><br style="color: rgb(5\, 5\, 5)\; font-family: &quot\;Segoe UI Historic&quot\;\, &quot\;Segoe UI&quot\;\, Helvetica\, Arial\, sans-serif\; font-size: 15px\; background-color: rgb(255\, 255\, 255)\;" />\n<font color="#050505" face="Segoe UI Historic\, Segoe UI\, Helvetica\, Arial\, sans-serif"><span style="font-size: 15px\; background-color: rgb(255\, 255\, 255)\;">and other games</span></font></div>\n</div>\n
LOCATION:Beavers Field /The Beavers Dam 1651 Granville Pike Lancaster\, Ohio
UID:e.3121.744
SEQUENCE:3
DTSTAMP:20260424T215320Z
URL:https://business.lancoc.org/events/details/ribbon-cutting-and-open-house-the-beavers-dam-744
END:VEVENT

END:VCALENDAR
