BEGIN:VCALENDAR
VERSION:2.0
PRODID:-//ChamberMaster//Event Calendar 2.0//EN
METHOD:PUBLISH
X-PUBLISHED-TTL:P3D
REFRESH-INTERVAL:P3D
CALSCALE:GREGORIAN
BEGIN:VEVENT
DTSTART:20191029T200000Z
DTEND:20191029T203000Z
X-MICROSOFT-CDO-ALLDAYEVENT:FALSE
SUMMARY:Ribbon Cutting: All Abilities Multi-Generational Playground
DESCRIPTION:Ribbon cutting ceremony for the opening of the \n\nAll Abilities Multi-Generational Playground
X-ALT-DESC;FMTTYPE=text/html:Ribbon cutting ceremony for the opening of the&nbsp\;<br />\nAll Abilities Multi-Generational Playground
LOCATION:Kiwanis Club of Lancaster Hunter Park Lincoln Ave-Rote 22 West Lancaster\, Ohio
UID:e.3121.376
SEQUENCE:3
DTSTAMP:20260424T043217Z
URL:https://business.lancoc.org/events/details/ribbon-cutting-all-abilities-multi-generational-playground-376
END:VEVENT

END:VCALENDAR
