BEGIN:VCALENDAR
VERSION:2.0
PRODID:-//ChamberMaster//Event Calendar 2.0//EN
METHOD:PUBLISH
X-PUBLISHED-TTL:P3D
REFRESH-INTERVAL:P3D
CALSCALE:GREGORIAN
BEGIN:VEVENT
DTSTART:20191205T210000Z
DTEND:20191205T213000Z
X-MICROSOFT-CDO-ALLDAYEVENT:FALSE
SUMMARY:Ribbon Cutting: ActionCOACH Central Ohio / Yakes & Associates
DESCRIPTION:4:00 P.M: Ribbon cutting ceremony for ActionCOACH Central Ohio (website) &\n\nYakes & Associates (website)
X-ALT-DESC;FMTTYPE=text/html:4:00 P.M: Ribbon cutting ceremony for <strong>ActionCOACH Central Ohio</strong> (<a href="https://heatheryakes.actioncoach.com/">website</a>) &amp\;<br />\n<strong>Yakes &amp\; Associates</strong> (<a href="https://www.yakesandassociates.com/">website</a>)<br />\n&nbsp\;
LOCATION:132 E Main Street Lancaster\, OH 43130
UID:e.3121.386
SEQUENCE:3
DTSTAMP:20260423T230151Z
URL:https://business.lancoc.org/events/details/ribbon-cutting-actioncoach-central-ohio-yakes-associates-386
END:VEVENT

END:VCALENDAR
