BEGIN:VCALENDAR
VERSION:2.0
PRODID:-//ChamberMaster//Event Calendar 2.0//EN
METHOD:PUBLISH
X-PUBLISHED-TTL:P3D
REFRESH-INTERVAL:P3D
CALSCALE:GREGORIAN
BEGIN:VEVENT
DTSTART:20191019T170000Z
DTEND:20191019T193000Z
X-MICROSOFT-CDO-ALLDAYEVENT:FALSE
SUMMARY:Repurpose Sewing
DESCRIPTION:Basic sewing skills will be used to re-purpose materials into tote bags and zippered pouches.\n\nAges 12-16
X-ALT-DESC;FMTTYPE=text/html:Basic sewing skills will be used to re-purpose materials into tote bags and zippered pouches.<br />\nAges 12-16
LOCATION:Decorative Arts Center of Ohio 145 E Main St Lancaster\, Ohio 43130
UID:e.3121.330
SEQUENCE:3
DTSTAMP:20260424T043049Z
URL:https://business.lancoc.org/events/details/repurpose-sewing-330
END:VEVENT

END:VCALENDAR
