BEGIN:VCALENDAR
VERSION:2.0
PRODID:-//ChamberMaster//Event Calendar 2.0//EN
METHOD:PUBLISH
X-PUBLISHED-TTL:P3D
REFRESH-INTERVAL:P3D
CALSCALE:GREGORIAN
BEGIN:VEVENT
DTSTART:20200917T203000Z
DTEND:20200917T223000Z
X-MICROSOFT-CDO-ALLDAYEVENT:FALSE
SUMMARY:(Registration Closed) Young Professionals of Lancaster: Happy Hour at Double Edge Brewing Co.
DESCRIPTION:ATTENDEE LIMIT HAS BEEN REACHED FOR THIS EVENT REGISTRATION IS CURRENTLY CLOSED \n\n\n\nJoin us for $1 off pints at Double Edge Brewing Co. and catch up with your YPL pals! Limited to 1st 10 RSVPs. Masks required and bring your own chairs.
X-ALT-DESC;FMTTYPE=text/html:<strong>&nbsp\;<br />\nATTENDEE LIMIT HAS BEEN REACHED FOR THIS EVENT REGISTRATION IS CURRENTLY CLOSED&nbsp\;</strong><br />\n<br />\n<span style="color:black\;"><span style="font-size:12.0pt\;">Join us for $1 off pints at Double Edge Brewing Co. and catch up with your YPL pals! Limited to 1st 10 RSVPs. Masks required and bring your own chairs.</span></span><br />\n&nbsp\;
LOCATION:Double Edge Brewing Co. 158 West Chestnut Street Lancaster\, OH 43130
UID:e.3121.470
SEQUENCE:3
DTSTAMP:20260423T093445Z
URL:https://business.lancoc.org/events/details/registration-closed-young-professionals-of-lancaster-happy-hour-at-double-edge-brewing-co-470
END:VEVENT

END:VCALENDAR
