BEGIN:VCALENDAR
VERSION:2.0
PRODID:-//ChamberMaster//Event Calendar 2.0//EN
METHOD:PUBLISH
X-PUBLISHED-TTL:P3D
REFRESH-INTERVAL:P3D
CALSCALE:GREGORIAN
BEGIN:VEVENT
DTSTART:20180630T213000Z
DTEND:20180701T020000Z
X-MICROSOFT-CDO-ALLDAYEVENT:FALSE
SUMMARY:Red White & Brew 2018-a project from the 2017 Fairfield Leadership Class
DESCRIPTION:Red White & Brew 2018\n\nall proceeds from this event benefit the Harcum House*\n\n\n\nFeaturing the music of Fedd Up and Bad Influence\n\n\n\n* this event is a project of our 2017 Fairfield Leadership Program
X-ALT-DESC;FMTTYPE=text/html:Red White &amp\; Brew 2018<br />\nall proceeds from this event benefit the Harcum House*<br />\n<br />\nFeaturing the music of <strong>Fedd&nbsp\;Up</strong> and <strong>Bad Influence</strong><br />\n<br />\n* this event is a project of our 2017 Fairfield Leadership Program<br />\n&nbsp\;
LOCATION:Fraternal Order of Eagles 1936 E. Main Street Lancaster\, Ohio 43130
UID:e.3121.22
SEQUENCE:3
DTSTAMP:20260425T105808Z
URL:https://business.lancoc.org/events/details/red-white-brew-2018-a-project-from-the-2017-fairfield-leadership-class-22
END:VEVENT

END:VCALENDAR
