BEGIN:VCALENDAR
VERSION:2.0
PRODID:-//ChamberMaster//Event Calendar 2.0//EN
METHOD:PUBLISH
X-PUBLISHED-TTL:P3D
REFRESH-INTERVAL:P3D
CALSCALE:GREGORIAN
BEGIN:VEVENT
DTSTART:20200324T170000Z
DTEND:20200324T230000Z
X-MICROSOFT-CDO-ALLDAYEVENT:FALSE
SUMMARY:Red Cross Bremen Community Blood Drive
DESCRIPTION:Bremen Community Blood Drive
X-ALT-DESC;FMTTYPE=text/html:Bremen Community Blood Drive<br />\n&nbsp\;
LOCATION:205 Walnut Street Bremen\, Ohio
UID:e.3121.442
SEQUENCE:3
DTSTAMP:20260423T185752Z
URL:https://business.lancoc.org/events/details/red-cross-bremen-community-blood-drive-442
END:VEVENT

END:VCALENDAR
