BEGIN:VCALENDAR
VERSION:2.0
PRODID:-//ChamberMaster//Event Calendar 2.0//EN
METHOD:PUBLISH
X-PUBLISHED-TTL:P3D
REFRESH-INTERVAL:P3D
CALSCALE:GREGORIAN
BEGIN:VEVENT
DTSTART:20200407T160000Z
DTEND:20200407T220000Z
X-MICROSOFT-CDO-ALLDAYEVENT:FALSE
SUMMARY:Red Cross Blood Drive
DESCRIPTION:Red Cross Blood Drive
X-ALT-DESC;FMTTYPE=text/html:Red Cross Blood Drive<br />\n<br />\n&nbsp\;
LOCATION:Kinights of Columbus Johns Community Blood Drive 343 E. Walnut Street Lancaster\, Ohio 43130
UID:e.3121.448
SEQUENCE:3
DTSTAMP:20260423T171953Z
URL:https://business.lancoc.org/events/details/red-cross-blood-drive-448
END:VEVENT

END:VCALENDAR
