BEGIN:VCALENDAR
VERSION:2.0
PRODID:-//ChamberMaster//Event Calendar 2.0//EN
METHOD:PUBLISH
X-PUBLISHED-TTL:P3D
REFRESH-INTERVAL:P3D
CALSCALE:GREGORIAN
BEGIN:VEVENT
DTSTART:20200326T140000Z
DTEND:20200326T200000Z
X-MICROSOFT-CDO-ALLDAYEVENT:FALSE
SUMMARY:Red Cross Blood Drive
DESCRIPTION:Red Cross Blood Drive
X-ALT-DESC;FMTTYPE=text/html:Red Cross Blood Drive<br />\n<br />\n&nbsp\;
LOCATION:Fairfield Medical Center 2nd Floor Assembly Room 2 401 N. Ewing Street Lancaster\, Ohio
UID:e.3121.446
SEQUENCE:3
DTSTAMP:20260423T190357Z
URL:https://business.lancoc.org/events/details/red-cross-blood-drive-446
END:VEVENT

END:VCALENDAR
