BEGIN:VCALENDAR
VERSION:2.0
PRODID:-//ChamberMaster//Event Calendar 2.0//EN
METHOD:PUBLISH
X-PUBLISHED-TTL:P3D
REFRESH-INTERVAL:P3D
CALSCALE:GREGORIAN
BEGIN:VEVENT
DTSTART:20210607T120000Z
DTEND:20210701T210000Z
X-MICROSOFT-CDO-ALLDAYEVENT:FALSE
SUMMARY:Ready-to-Work Manufacturing\, hosted by Fairfield County\, Ohio University Lancaster\, Hocking College\, and Eastland-Fairfield Career and Technical School
DESCRIPTION:Fairfield County\, in collaboration with Ohio University-Lancaster\, Hocking College\, and Eastland-Fairfield Career and Technical School continues its Ready-to-Work series with Ready-to-Work Manufacturing. Students participating in this this four week intensive program can gain the skills needed to start a career in manufacturing.\n\n \n\n\nParticipants who complete this program will receive certifications in OSHA and CPR/AED. In addition to these skills\, participants will engage with employers\, and work with Career Navigators who will help them\n\nidentify and apply for a great career in the manufacturing sector!\n\n\n \n\n\nSTUDENTS PARTICIPATING IN THIS 4-WEEK\n\nPROGRAM WILL GAIN SKILLS IN:\n\n  Health and Safety\n\n  Electrical\n\n  Forklift/Scissor lift\n\n  Robotics and Automation\n\n  Blueprint Reading\n\n  Assembling and Manufacturing\n\nProcesses\n\n  Management\n\n\n \n\n\nADDITIONAL BENEFITS:\n\n  Meet with manufacturers at a job fair\n\nto secure employment\n\n  Additional $1/hr added pay if you\n\nare hired by a manufacturing partner\n\n  General job skills\n\n  Forklift training\n\n\n \n\n\nREGISTER NOW AT\n\nfairfieldcountyohioworkforcecenter.gov\n\n \n\nQUESTIONS? CONTACT: Amanda Lemke at lemkea@hocking.edu
X-ALT-DESC;FMTTYPE=text/html:<div>Fairfield County\, in collaboration with Ohio University-Lancaster\, Hocking College\, and Eastland-Fairfield Career and Technical School continues its Ready-to-Work series with Ready-to-Work Manufacturing. Students participating in this this four week intensive program can gain the skills needed to start a career in manufacturing.</div>\n\n<div>&nbsp\;</div>\n\n<div>\n<div>Participants who complete this program will receive certifications in OSHA and CPR/AED. In addition to these skills\, participants will engage with employers\, and work with Career Navigators who will help them</div>\n\n<div>identify and apply for a great career in the manufacturing sector!</div>\n</div>\n\n<div>&nbsp\;</div>\n\n<div>\n<div><strong>STUDENTS PARTICIPATING IN THIS 4-WEEK</strong></div>\n\n<div><strong>PROGRAM WILL GAIN SKILLS IN:</strong></div>\n\n<div>&bull\; Health and Safety</div>\n\n<div>&bull\; Electrical</div>\n\n<div>&bull\; Forklift/Scissor lift</div>\n\n<div>&bull\; Robotics and Automation</div>\n\n<div>&bull\; Blueprint Reading</div>\n\n<div>&bull\; Assembling and Manufacturing</div>\n\n<div>Processes</div>\n\n<div>&bull\; Management</div>\n</div>\n\n<div>&nbsp\;</div>\n\n<div>\n<div><strong>ADDITIONAL BENEFITS:</strong></div>\n\n<div>&bull\; Meet with manufacturers at a job fair</div>\n\n<div>to secure employment</div>\n\n<div>&bull\; Additional $1/hr added pay if you</div>\n\n<div>are hired by a manufacturing partner</div>\n\n<div>&bull\; General job skills</div>\n\n<div>&bull\; Forklift training</div>\n</div>\n\n<div>&nbsp\;</div>\n\n<div>\n<div><strong>REGISTER NOW AT</strong></div>\n\n<div><a href="http://fairfieldcountyohioworkforcecenter.gov">fairfieldcountyohioworkforcecenter.gov</a></div>\n\n<div>&nbsp\;</div>\n\n<div><strong>QUESTIONS? CONTACT:</strong> Amanda Lemke at <a href="mailto:lemkea@hocking.edu">lemkea@hocking.edu</a></div>\n</div>\n
LOCATION:FAIRFIELD COUNTY WORKFORCE CENTER 4465 Coonpath Rd. NW Carroll\, OH 43112
UID:e.3121.582
SEQUENCE:3
DTSTAMP:20260422T110708Z
URL:https://business.lancoc.org/events/details/ready-to-work-manufacturing-hosted-by-fairfield-county-ohio-university-lancaster-hocking-college-and-eastland-fairfield-career-and-technical-school-582
END:VEVENT

END:VCALENDAR
