BEGIN:VCALENDAR
VERSION:2.0
PRODID:-//ChamberMaster//Event Calendar 2.0//EN
METHOD:PUBLISH
X-PUBLISHED-TTL:P3D
REFRESH-INTERVAL:P3D
CALSCALE:GREGORIAN
BEGIN:VEVENT
DTSTART:20191004T160000Z
DTEND:20191004T163000Z
X-MICROSOFT-CDO-ALLDAYEVENT:FALSE
SUMMARY:Rabbit & Rocket Ribbon Cutting
DESCRIPTION:Rabbit & Rocket ribbon cutting
X-ALT-DESC;FMTTYPE=text/html:Rabbit &amp\; Rocket ribbon cutting
LOCATION:207 W. Main Street\, Lancaster\, Ohio 43130
UID:e.3121.334
SEQUENCE:3
DTSTAMP:20260424T005826Z
URL:https://business.lancoc.org/events/details/rabbit-rocket-ribbon-cutting-334
END:VEVENT

END:VCALENDAR
