BEGIN:VCALENDAR
VERSION:2.0
PRODID:-//ChamberMaster//Event Calendar 2.0//EN
METHOD:PUBLISH
X-PUBLISHED-TTL:P3D
REFRESH-INTERVAL:P3D
CALSCALE:GREGORIAN
BEGIN:VEVENT
DTSTART:20191207T180000Z
DTEND:20191207T203000Z
X-MICROSOFT-CDO-ALLDAYEVENT:FALSE
SUMMARY:Putz Houses
DESCRIPTION:Using basic paper house construction and adding more complex details\, students will make their own houses to create a winter village.\n\nAges 15+ \n\nLisa Schorr and Dallas Rienschield\, Instructors
X-ALT-DESC;FMTTYPE=text/html:Using basic paper house construction and adding more complex details\, students will make their own houses to create a winter village.<br />\n<span style="color: rgb(51\, 51\, 51)\; font-family: sans-serif\, Arial\, Verdana\, &quot\;Trebuchet MS&quot\;\; font-size: 13px\; background-color: rgb(255\, 255\, 255)\;">Ages 15+&nbsp\;<br />\nLisa Schorr and Dallas Rienschield\, Instructors&nbsp\;</span>
LOCATION:Wendel Center for Art Education 145 E Main St Lancaster\, Ohio 43130
UID:e.3121.339
SEQUENCE:3
DTSTAMP:20260424T004101Z
URL:https://business.lancoc.org/events/details/putz-houses-339
END:VEVENT

END:VCALENDAR
