BEGIN:VCALENDAR
VERSION:2.0
PRODID:-//ChamberMaster//Event Calendar 2.0//EN
METHOD:PUBLISH
X-PUBLISHED-TTL:P3D
REFRESH-INTERVAL:P3D
CALSCALE:GREGORIAN
BEGIN:VEVENT
DTSTART:20201212T150000Z
DTEND:20201212T193000Z
X-MICROSOFT-CDO-ALLDAYEVENT:FALSE
SUMMARY:Putz Houses
DESCRIPTION:We invite students to join us for an afternoon of holiday fun and build their own Christmas Village Putz House. A Christmas village (or putz) is a decorative\, miniature scale village often set up during the Christmas season.
X-ALT-DESC;FMTTYPE=text/html:We invite students to join us for an afternoon of holiday fun and build their own Christmas Village Putz House. A Christmas village (or putz) is a decorative\, miniature scale village often set up during the Christmas season.
LOCATION:Wendel Center for Art Education 145 E Main St Lancaster\, Ohio 43130
UID:e.3121.479
SEQUENCE:3
DTSTAMP:20260423T035943Z
URL:https://business.lancoc.org/events/details/putz-houses-12-12-2020-479
END:VEVENT

END:VCALENDAR
