BEGIN:VCALENDAR
VERSION:2.0
PRODID:-//ChamberMaster//Event Calendar 2.0//EN
METHOD:PUBLISH
X-PUBLISHED-TTL:P3D
REFRESH-INTERVAL:P3D
CALSCALE:GREGORIAN
BEGIN:VEVENT
DTSTART:20191207T150000Z
DTEND:20191207T170000Z
X-MICROSOFT-CDO-ALLDAYEVENT:FALSE
SUMMARY:Putz Houses
DESCRIPTION:Ages 8-15 Saturday\, December 7 10:00 am -12:00 pm $25/$20 member Lisa Schorr and Dallas Rienschield\, instructors Using basic paper house construction\, students will make their own houses to create a winter village.
X-ALT-DESC;FMTTYPE=text/html:Ages 8-15 Saturday\, December 7 10:00 am -12:00 pm $25/$20 member Lisa Schorr and Dallas Rienschield\, instructors Using basic paper house construction\, students will make their own houses to create a winter village.
LOCATION:Wendel Center for Art Education at The Decorative Arts Center 145 E. Main St. Lancaster\, Ohio 43130
UID:e.3121.340
SEQUENCE:3
DTSTAMP:20260424T004133Z
URL:https://business.lancoc.org/events/details/putz-houses-12-07-2019-340
END:VEVENT

END:VCALENDAR
