BEGIN:VCALENDAR
VERSION:2.0
PRODID:-//ChamberMaster//Event Calendar 2.0//EN
METHOD:PUBLISH
X-PUBLISHED-TTL:P3D
REFRESH-INTERVAL:P3D
CALSCALE:GREGORIAN
BEGIN:VEVENT
DTSTART:20191026T180000Z
DTEND:20191026T193000Z
X-MICROSOFT-CDO-ALLDAYEVENT:FALSE
SUMMARY:Pumpkin Carving Extravaganza
DESCRIPTION:Make your own pumpkin masterpiece with us!\n\nCarve and decorate your very own Halloween pumpkin.\n\nAges: 11+
X-ALT-DESC;FMTTYPE=text/html:Make your own pumpkin masterpiece with us!<br />\nCarve and decorate your very own Halloween pumpkin.<br />\nAges: 11+&nbsp\;
LOCATION:The Wendel Center for Art Education 145 E Main St. Lancaster\, Ohio 43130
UID:e.3121.347
SEQUENCE:3
DTSTAMP:20260424T043120Z
URL:https://business.lancoc.org/events/details/pumpkin-carving-extravaganza-347
END:VEVENT

END:VCALENDAR
